BEGIN:VCALENDAR
VERSION:2.0
PRODID:-//BPWNZ Website - ECPv5.3.1.1//NONSGML v1.0//EN
CALSCALE:GREGORIAN
METHOD:PUBLISH
X-WR-CALNAME:BPWNZ Website
X-ORIGINAL-URL:https://www.bpwnz.org.nz
X-WR-CALDESC:Events for BPWNZ Website
BEGIN:VTIMEZONE
TZID:Australia/Sydney
BEGIN:STANDARD
TZOFFSETFROM:+1100
TZOFFSETTO:+1000
TZNAME:AEST
DTSTART:20200404T160000
END:STANDARD
BEGIN:DAYLIGHT
TZOFFSETFROM:+1000
TZOFFSETTO:+1100
TZNAME:AEDT
DTSTART:20201003T160000
END:DAYLIGHT
BEGIN:STANDARD
TZOFFSETFROM:+1100
TZOFFSETTO:+1000
TZNAME:AEST
DTSTART:20210403T160000
END:STANDARD
BEGIN:DAYLIGHT
TZOFFSETFROM:+1000
TZOFFSETTO:+1100
TZNAME:AEDT
DTSTART:20211002T160000
END:DAYLIGHT
END:VTIMEZONE
BEGIN:VEVENT
DTSTART;TZID=Australia/Sydney:20201229T173000
DTEND;TZID=Australia/Sydney:20201229T173000
DTSTAMP:20210122T222443
CREATED:20180615T044737Z
LAST-MODIFIED:20190906T031140Z
UID:4029-1609263000-1609263000@www.bpwnz.org.nz
SUMMARY:Monthly Meetings - Wellington
DESCRIPTION:We meet on the last Tuesday of each month at the Jackson Street Programme.\nWe have fellowship for the first half hour then a dinner\, guest speaker followed by a short meeting.
URL:https://www.bpwnz.org.nz/event/monthly-meetings-wellington/2020-12-29/
CATEGORIES:Wellington Events
END:VEVENT
BEGIN:VEVENT
DTSTART;TZID=Australia/Sydney:20210105T173000
DTEND;TZID=Australia/Sydney:20210105T173000
DTSTAMP:20210122T222443
CREATED:20180615T042641Z
LAST-MODIFIED:20190512T061510Z
UID:4031-1609867800-1609867800@www.bpwnz.org.nz
SUMMARY:Monthly Meetings - Gisborne
DESCRIPTION:We meet on the 1st Tuesday of each month at the Wharf Restaurant and Café.\nWe have fellowship for the first half hour then a dinner\, guest speaker followed by a short meeting.
URL:https://www.bpwnz.org.nz/event/monthly-meetings-gisborne/2021-01-05/
LOCATION:Gisborne Tatapouri Fishing Club\, Number 2 Wharf Shed\, 54 Esplanade\, Gisborne\, New Zealand
CATEGORIES:Gisborne Events
END:VEVENT
BEGIN:VEVENT
DTSTART;TZID=Australia/Sydney:20210105T173000
DTEND;TZID=Australia/Sydney:20210105T210000
DTSTAMP:20210122T222443
CREATED:20210116T112550Z
LAST-MODIFIED:20210116T112550Z
UID:4992-1609867800-1609880400@www.bpwnz.org.nz
SUMMARY:Monthly Meeting - Huntly & Districts
DESCRIPTION:
URL:https://www.bpwnz.org.nz/event/monthly-meeting-huntly-districts/2021-01-05/
LOCATION:Huntly RSA – Huntly\, 42 William Street\, Huntly\, 3700\, New Zealand
GEO:-37.5581795;175.1613801
X-APPLE-STRUCTURED-LOCATION;VALUE=URI;X-ADDRESS=Huntly RSA – Huntly 42 William Street Huntly 3700 New Zealand;X-APPLE-RADIUS=500;X-TITLE=42 William Street:geo:175.1613801,-37.5581795
END:VEVENT
BEGIN:VEVENT
DTSTART;TZID=Australia/Sydney:20210112T183000
DTEND;TZID=Australia/Sydney:20210112T183000
DTSTAMP:20210122T222443
CREATED:20180615T041817Z
LAST-MODIFIED:20180615T041817Z
UID:4034-1610476200-1610476200@www.bpwnz.org.nz
SUMMARY:Monthly Meetings - Christchurch
DESCRIPTION:We meet on the 2nd Tuesday of each month at the Eliza Manor’s Motel.\nWe have fellowship for the first half hour then a dinner\, guest speaker followed by a short meeting.
URL:https://www.bpwnz.org.nz/event/monthly-meetings-christchurch-2/2021-01-12/
LOCATION:Eliza Manor’s Motel – Christchurch\, 82 Bealey Ave\, Christchurch\, Christchurch\, 8013\, New Zealand
CATEGORIES:Christchurch Events
GEO:-43.521265;172.6327551
X-APPLE-STRUCTURED-LOCATION;VALUE=URI;X-ADDRESS=Eliza Manor’s Motel – Christchurch 82 Bealey Ave Christchurch Christchurch 8013 New Zealand;X-APPLE-RADIUS=500;X-TITLE=82 Bealey Ave:geo:172.6327551,-43.521265
END:VEVENT
BEGIN:VEVENT
DTSTART;TZID=Australia/Sydney:20210112T183000
DTEND;TZID=Australia/Sydney:20210112T183000
DTSTAMP:20210122T222443
CREATED:20180615T044033Z
LAST-MODIFIED:20180615T044033Z
UID:4033-1610476200-1610476200@www.bpwnz.org.nz
SUMMARY:Monthly Meetings - Upper Hutt
DESCRIPTION:We meet on the 2nd Tuesday of each month at the Porterhouse Blues.\nWe have fellowship for the first half hour then a dinner\, guest speaker followed by a short meeting.
URL:https://www.bpwnz.org.nz/event/monthly-meetings-upper-hutt/2021-01-12/
LOCATION:Porterhouse Blues – Upper Hutt\, 7a King Street\, Wellington\, Upper Hutt\, 5018\, New Zealand
CATEGORIES:Upper Hutt Events
GEO:-41.1232518;175.0747608
X-APPLE-STRUCTURED-LOCATION;VALUE=URI;X-ADDRESS=Porterhouse Blues – Upper Hutt 7a King Street Wellington Upper Hutt 5018 New Zealand;X-APPLE-RADIUS=500;X-TITLE=7a King Street:geo:175.0747608,-41.1232518
END:VEVENT
BEGIN:VEVENT
DTSTART;TZID=Australia/Sydney:20210113T180000
DTEND;TZID=Australia/Sydney:20210113T180000
DTSTAMP:20210122T222443
CREATED:20180615T044347Z
LAST-MODIFIED:20180615T044347Z
UID:4035-1610560800-1610560800@www.bpwnz.org.nz
SUMMARY:Monthly Meetings - Warkworth
DESCRIPTION:We meet on the 2nd Wednesday of each month at the Salty Dog Inn.\nWe have fellowship for the first half hour then a dinner\, guest speaker followed by a short meeting.
URL:https://www.bpwnz.org.nz/event/monthly-meetings-warkworth/2021-01-13/
LOCATION:Salty Dog Inn – Warkworth\, 242 Mahurangi East Road\, Warkworth\, Snells Beach\, 0920\, New Zealand
CATEGORIES:Warkworth Events
GEO:-36.4180387;174.7230111
X-APPLE-STRUCTURED-LOCATION;VALUE=URI;X-ADDRESS=Salty Dog Inn – Warkworth 242 Mahurangi East Road Warkworth Snells Beach 0920 New Zealand;X-APPLE-RADIUS=500;X-TITLE=242 Mahurangi East Road:geo:174.7230111,-36.4180387
END:VEVENT
BEGIN:VEVENT
DTSTART;TZID=Australia/Sydney:20210114T183000
DTEND;TZID=Australia/Sydney:20210114T203000
DTSTAMP:20210122T222443
CREATED:20180615T042253Z
LAST-MODIFIED:20180615T042253Z
UID:4036-1610649000-1610656200@www.bpwnz.org.nz
SUMMARY:Monthly Meetings - Doubtless Bay
DESCRIPTION:We meet on the 2nd Thursday of each month at the Mill Bay Yacht Club.\nWe have fellowship for the first half hour then a dinner\, guest speaker followed by a short meeting.
URL:https://www.bpwnz.org.nz/event/monthly-meetings-doubtless-bay/2021-01-14/
LOCATION:Mill Bay Yacht Club – Doubtless Bay\, 5 Silver Egg Rd\, Mangonui\, Mangonui\, 0420\, New Zealand
CATEGORIES:Doubtless Bay Events
GEO:-34.9869248;173.526618
X-APPLE-STRUCTURED-LOCATION;VALUE=URI;X-ADDRESS=Mill Bay Yacht Club – Doubtless Bay 5 Silver Egg Rd Mangonui Mangonui 0420 New Zealand;X-APPLE-RADIUS=500;X-TITLE=5 Silver Egg Rd:geo:173.526618,-34.9869248
END:VEVENT
BEGIN:VEVENT
DTSTART;TZID=Australia/Sydney:20210118T183000
DTEND;TZID=Australia/Sydney:20210118T183000
DTSTAMP:20210122T222443
CREATED:20180615T042854Z
LAST-MODIFIED:20180615T042854Z
UID:4037-1610994600-1610994600@www.bpwnz.org.nz
SUMMARY:Monthly Meetings - Hawera
DESCRIPTION:We meet on the 3rd Monday of each month at Tairoa Lodge.\nWe have fellowship for the first half hour then a dinner\, guest speaker followed by a short meeting.
URL:https://www.bpwnz.org.nz/event/monthly-meetings-hawera/2021-01-18/
LOCATION:Tairoa Lodge – Hawera\, 3 Puawai Street\, Hawera\, 4610\, New Zealand
CATEGORIES:Hawera Events
GEO:-39.5971963;174.2921489
X-APPLE-STRUCTURED-LOCATION;VALUE=URI;X-ADDRESS=Tairoa Lodge – Hawera 3 Puawai Street Hawera 4610 New Zealand;X-APPLE-RADIUS=500;X-TITLE=3 Puawai Street:geo:174.2921489,-39.5971963
END:VEVENT
BEGIN:VEVENT
DTSTART;TZID=Australia/Sydney:20210119T173000
DTEND;TZID=Australia/Sydney:20210119T173000
DTSTAMP:20210122T222443
CREATED:20180615T043615Z
LAST-MODIFIED:20180615T043615Z
UID:4038-1611077400-1611077400@www.bpwnz.org.nz
SUMMARY:Monthly Meetings - Kaitaia
DESCRIPTION:We meet on the 3rd Tuesday of each month at the Orana Motor Inn.\nWe have fellowship for the first half hour then a dinner\, guest speaker followed by a short meeting.
URL:https://www.bpwnz.org.nz/event/monthly-meetings-kaitaia/2021-01-19/
LOCATION:Orana Motor Inn – Kaitaia\, 238 Commerce Street\, Kaitaia\, 0410\, New Zealand
CATEGORIES:Kaitaia Events
GEO:-35.1096055;173.2595399
X-APPLE-STRUCTURED-LOCATION;VALUE=URI;X-ADDRESS=Orana Motor Inn – Kaitaia 238 Commerce Street Kaitaia 0410 New Zealand;X-APPLE-RADIUS=500;X-TITLE=238 Commerce Street:geo:173.2595399,-35.1096055
END:VEVENT
BEGIN:VEVENT
DTSTART;TZID=Australia/Sydney:20210120T180000
DTEND;TZID=Australia/Sydney:20210120T180000
DTSTAMP:20210122T222443
CREATED:20180615T043753Z
LAST-MODIFIED:20180615T043753Z
UID:4040-1611165600-1611165600@www.bpwnz.org.nz
SUMMARY:Monthly Meetings - Tamaki
DESCRIPTION:We meet on the 3rd Wednesday of each month at the Waipuna Hotel & Conference Centre.\nWe have fellowship for the first half hour then a dinner\, guest speaker followed by a short meeting.
URL:https://www.bpwnz.org.nz/event/monthly-meetings-tamaki/2021-01-20/
LOCATION:Waipuna Hotel & Conference Centre – Tamaki\, 58 Waipuna Rd\, Auckland\, Mount Wellington\, 1060\, New Zealand
CATEGORIES:Tamaki Events
GEO:-36.9087085;174.8459027
X-APPLE-STRUCTURED-LOCATION;VALUE=URI;X-ADDRESS=Waipuna Hotel & Conference Centre – Tamaki 58 Waipuna Rd Auckland Mount Wellington 1060 New Zealand;X-APPLE-RADIUS=500;X-TITLE=58 Waipuna Rd:geo:174.8459027,-36.9087085
END:VEVENT
BEGIN:VEVENT
DTSTART;TZID=Australia/Sydney:20210120T183000
DTEND;TZID=Australia/Sydney:20210120T203000
DTSTAMP:20210122T222443
CREATED:20180615T020045Z
LAST-MODIFIED:20180615T020045Z
UID:4039-1611167400-1611174600@www.bpwnz.org.nz
SUMMARY:Monthly Meetings - Central Hawkes Bay
DESCRIPTION:We meet on the third Wednesday of each month at the CHB Municipal Theatre\, Waipawa at 6.30pm. We\nhave fellowship for the first half hour then a dinner\, guest speaker followed by a short meeting. The cost\nfor the evening is $20. Numbers need to be in to Judy Thomsen by the Monday before.
URL:https://www.bpwnz.org.nz/event/monthly-meetings-central-hawkes-bay/2021-01-20/
LOCATION:CHB Municipal Theatre – Central Hawkes Bay\, 18 Kenilworth Street\, Waipawa\, Waipawa\, 4210\, New Zealand
CATEGORIES:Central Hawkes Bay Events
ORGANIZER;CN="Judy%20Thomsen":MAILTO:thomsen.mtview@gmail.com
GEO:-39.943518;176.5856394
X-APPLE-STRUCTURED-LOCATION;VALUE=URI;X-ADDRESS=CHB Municipal Theatre – Central Hawkes Bay 18 Kenilworth Street Waipawa Waipawa 4210 New Zealand;X-APPLE-RADIUS=500;X-TITLE=18 Kenilworth Street:geo:176.5856394,-39.943518
END:VEVENT
BEGIN:VEVENT
DTSTART;TZID=Australia/Sydney:20210126T173000
DTEND;TZID=Australia/Sydney:20210126T173000
DTSTAMP:20210122T222443
CREATED:20180615T044737Z
LAST-MODIFIED:20190906T031145Z
UID:4041-1611682200-1611682200@www.bpwnz.org.nz
SUMMARY:Monthly Meetings - Wellington
DESCRIPTION:We meet on the last Tuesday of each month at the Jackson Street Programme.\nWe have fellowship for the first half hour then a dinner\, guest speaker followed by a short meeting.
URL:https://www.bpwnz.org.nz/event/monthly-meetings-wellington/2021-01-26/
CATEGORIES:Wellington Events
END:VEVENT
BEGIN:VEVENT
DTSTART;TZID=Australia/Sydney:20210127T183000
DTEND;TZID=Australia/Sydney:20210127T183000
DTSTAMP:20210122T222443
CREATED:20180615T042453Z
LAST-MODIFIED:20180615T042453Z
UID:4042-1611772200-1611772200@www.bpwnz.org.nz
SUMMARY:Monthly Meetings - Franklin
DESCRIPTION:We meet on the 4th Wednesday of each month at the The Franklin Club.\nWe have fellowship for the first half hour then a dinner\, guest speaker followed by a short meeting.
URL:https://www.bpwnz.org.nz/event/monthly-meetings-franklin/2021-01-27/
LOCATION:The Franklin Club – Franklin\, 7 East Street\, Pukekohe\, 2120\, New Zealand
CATEGORIES:Franklin Events
GEO:-37.2010479;174.908943
X-APPLE-STRUCTURED-LOCATION;VALUE=URI;X-ADDRESS=The Franklin Club – Franklin 7 East Street Pukekohe 2120 New Zealand;X-APPLE-RADIUS=500;X-TITLE=7 East Street:geo:174.908943,-37.2010479
END:VEVENT
END:VCALENDAR